BEGIN:VCALENDAR
VERSION:2.0
PRODID:-//Suicide Prevention Community Council of Hamilton - ECPv5.6.0//NONSGML v1.0//EN
CALSCALE:GREGORIAN
METHOD:PUBLISH
X-WR-CALNAME:Suicide Prevention Community Council of Hamilton
X-ORIGINAL-URL:https://spcch.org
X-WR-CALDESC:Events for Suicide Prevention Community Council of Hamilton
BEGIN:VTIMEZONE
TZID:America/Toronto
BEGIN:DAYLIGHT
TZOFFSETFROM:-0500
TZOFFSETTO:-0400
TZNAME:EDT
DTSTART:20260308T070000
END:DAYLIGHT
BEGIN:STANDARD
TZOFFSETFROM:-0400
TZOFFSETTO:-0500
TZNAME:EST
DTSTART:20261101T060000
END:STANDARD
END:VTIMEZONE
BEGIN:VEVENT
DTSTART;TZID=America/Toronto:20260513T120000
DTEND;TZID=America/Toronto:20260513T133000
DTSTAMP:20260424T120326
CREATED:20260423T183722Z
LAST-MODIFIED:20260423T184451Z
UID:3263-1778673600-1778679000@spcch.org
SUMMARY:Navigating Mental Health Resources
DESCRIPTION:Navigating the mental health system can feel overwhelming. \nThis free virtual workshop is designed to help community members\, caregivers\, and anyone interested build confidence in finding and accessing mental health and community supports. \nParticipants will learn about the different types of resources available\, the roles of mental health professionals\, and practical strategies for overcoming common barriers such as waitlists\, eligibility requirements\, and lack of information.
URL:https://spcch.org/event/navigating-mental-health-resources/
END:VEVENT
END:VCALENDAR